BEGIN:VCALENDAR
VERSION:2.0
PRODID:-//Société patrimoine et histoire de l&#039;île Bizard et Sainte-Geneviève et Sainte-Geneviève - ECPv6.15.20//NONSGML v1.0//EN
CALSCALE:GREGORIAN
METHOD:PUBLISH
X-WR-CALNAME:Société patrimoine et histoire de l&#039;île Bizard et Sainte-Geneviève et Sainte-Geneviève
X-ORIGINAL-URL:https://www.sphib-sg.org
X-WR-CALDESC:Évènements pour Société patrimoine et histoire de l&#039;île Bizard et Sainte-Geneviève et Sainte-Geneviève
REFRESH-INTERVAL;VALUE=DURATION:PT1H
X-Robots-Tag:noindex
X-PUBLISHED-TTL:PT1H
BEGIN:VTIMEZONE
TZID:America/New_York
BEGIN:DAYLIGHT
TZOFFSETFROM:-0500
TZOFFSETTO:-0400
TZNAME:EDT
DTSTART:20240310T070000
END:DAYLIGHT
BEGIN:STANDARD
TZOFFSETFROM:-0400
TZOFFSETTO:-0500
TZNAME:EST
DTSTART:20241103T060000
END:STANDARD
BEGIN:DAYLIGHT
TZOFFSETFROM:-0500
TZOFFSETTO:-0400
TZNAME:EDT
DTSTART:20250309T070000
END:DAYLIGHT
BEGIN:STANDARD
TZOFFSETFROM:-0400
TZOFFSETTO:-0500
TZNAME:EST
DTSTART:20251102T060000
END:STANDARD
BEGIN:DAYLIGHT
TZOFFSETFROM:-0500
TZOFFSETTO:-0400
TZNAME:EDT
DTSTART:20260308T070000
END:DAYLIGHT
BEGIN:STANDARD
TZOFFSETFROM:-0400
TZOFFSETTO:-0500
TZNAME:EST
DTSTART:20261101T060000
END:STANDARD
END:VTIMEZONE
BEGIN:VEVENT
DTSTART;TZID=America/New_York:20250713T140000
DTEND;TZID=America/New_York:20250713T160000
DTSTAMP:20260424T101000
CREATED:20250618T125903Z
LAST-MODIFIED:20250618T125903Z
UID:4579-1752415200-1752422400@www.sphib-sg.org
SUMMARY:Visite patrimoniale du village de Sainte-Geneviève
DESCRIPTION:Randonnée pédestre de 90 minutes Parcours en direction ouest à partir de l’église Sainte-Geneviève. Le conférencier et interprète du patrimoine André Laniel\, alias « conteux » du village\, partagera des souvenirs\, anecdotes et récits qui redonnent vie à l’histoire locale.
URL:https://www.sphib-sg.org/evenement/visite-patrimoniale-du-village-de-sainte-genevieve/
LOCATION:Départ devant l’église Sainte-Geneviève\, 16037 Boul. Gouin ouest\, Sainte-Geneviève\, Québec\, H9H 1C7\, Canada
ATTACH;FMTTYPE=image/jpeg:https://www.sphib-sg.org/wp-content/uploads/2025/06/Affiche-Visite-village-Sainte-Genevieve-petit.jpg
END:VEVENT
END:VCALENDAR