BEGIN:VCALENDAR
VERSION:2.0
PRODID:-//Société patrimoine et histoire de l&#039;île Bizard et Sainte-Geneviève et Sainte-Geneviève - ECPv6.15.20//NONSGML v1.0//EN
CALSCALE:GREGORIAN
METHOD:PUBLISH
X-ORIGINAL-URL:https://www.sphib-sg.org
X-WR-CALDESC:Évènements pour Société patrimoine et histoire de l&#039;île Bizard et Sainte-Geneviève et Sainte-Geneviève
REFRESH-INTERVAL;VALUE=DURATION:PT1H
X-Robots-Tag:noindex
X-PUBLISHED-TTL:PT1H
BEGIN:VTIMEZONE
TZID:America/New_York
BEGIN:DAYLIGHT
TZOFFSETFROM:-0500
TZOFFSETTO:-0400
TZNAME:EDT
DTSTART:20240310T070000
END:DAYLIGHT
BEGIN:STANDARD
TZOFFSETFROM:-0400
TZOFFSETTO:-0500
TZNAME:EST
DTSTART:20241103T060000
END:STANDARD
BEGIN:DAYLIGHT
TZOFFSETFROM:-0500
TZOFFSETTO:-0400
TZNAME:EDT
DTSTART:20250309T070000
END:DAYLIGHT
BEGIN:STANDARD
TZOFFSETFROM:-0400
TZOFFSETTO:-0500
TZNAME:EST
DTSTART:20251102T060000
END:STANDARD
BEGIN:DAYLIGHT
TZOFFSETFROM:-0500
TZOFFSETTO:-0400
TZNAME:EDT
DTSTART:20260308T070000
END:DAYLIGHT
BEGIN:STANDARD
TZOFFSETFROM:-0400
TZOFFSETTO:-0500
TZNAME:EST
DTSTART:20261101T060000
END:STANDARD
END:VTIMEZONE
BEGIN:VEVENT
DTSTART;TZID=America/New_York:20250321T140000
DTEND;TZID=America/New_York:20250321T153000
DTSTAMP:20260424T161713
CREATED:20241127T020404Z
LAST-MODIFIED:20241127T020404Z
UID:4480-1742565600-1742571000@www.sphib-sg.org
SUMMARY:Conférence : Vieux Montréal et son patrimoine de magasinage
DESCRIPTION:Conférencière Joanne Burgess\, historienne et professeure au Département d’histoire de l’Université du Québec.
URL:https://www.sphib-sg.org/evenement/conference-vieux-montreal-et-son-patrimoine-de-magasinage/
LOCATION:Salle Madeleine-Lahaye\, 500\, montée de l’Église\, L’Île-Bizard\, Quebec\, Canada
CATEGORIES:Conférence
ATTACH;FMTTYPE=image/jpeg:https://www.sphib-sg.org/wp-content/uploads/2024/11/conference-vieux-montreal.jpeg
END:VEVENT
END:VCALENDAR