BEGIN:VCALENDAR
VERSION:2.0
PRODID:-//Société patrimoine et histoire de l&#039;île Bizard et Sainte-Geneviève et Sainte-Geneviève - ECPv6.15.20//NONSGML v1.0//EN
CALSCALE:GREGORIAN
METHOD:PUBLISH
X-WR-CALNAME:Société patrimoine et histoire de l&#039;île Bizard et Sainte-Geneviève et Sainte-Geneviève
X-ORIGINAL-URL:https://www.sphib-sg.org
X-WR-CALDESC:Évènements pour Société patrimoine et histoire de l&#039;île Bizard et Sainte-Geneviève et Sainte-Geneviève
REFRESH-INTERVAL;VALUE=DURATION:PT1H
X-Robots-Tag:noindex
X-PUBLISHED-TTL:PT1H
BEGIN:VTIMEZONE
TZID:America/New_York
BEGIN:DAYLIGHT
TZOFFSETFROM:-0500
TZOFFSETTO:-0400
TZNAME:EDT
DTSTART:20230312T070000
END:DAYLIGHT
BEGIN:STANDARD
TZOFFSETFROM:-0400
TZOFFSETTO:-0500
TZNAME:EST
DTSTART:20231105T060000
END:STANDARD
BEGIN:DAYLIGHT
TZOFFSETFROM:-0500
TZOFFSETTO:-0400
TZNAME:EDT
DTSTART:20240310T070000
END:DAYLIGHT
BEGIN:STANDARD
TZOFFSETFROM:-0400
TZOFFSETTO:-0500
TZNAME:EST
DTSTART:20241103T060000
END:STANDARD
BEGIN:DAYLIGHT
TZOFFSETFROM:-0500
TZOFFSETTO:-0400
TZNAME:EDT
DTSTART:20250309T070000
END:DAYLIGHT
BEGIN:STANDARD
TZOFFSETFROM:-0400
TZOFFSETTO:-0500
TZNAME:EST
DTSTART:20251102T060000
END:STANDARD
END:VTIMEZONE
BEGIN:VEVENT
DTSTART;TZID=America/New_York:20241206T190000
DTEND;TZID=America/New_York:20241206T203000
DTSTAMP:20260424T215525
CREATED:20241114T165449Z
LAST-MODIFIED:20241114T165449Z
UID:4477-1733511600-1733517000@www.sphib-sg.org
SUMMARY:Soirée contes et légendes
DESCRIPTION:À quelques jours de Noël\, nous perpétuons la tradition de vous présenter une soirée contes et légendes avec un vrai conteur qui s’accompagne de différents instruments de musiques. Il y aura des rafraichissements gratuits.
URL:https://www.sphib-sg.org/evenement/soiree-contes-et-legendes/
LOCATION:Salle Madeleine-Lahaye\, 500\, montée de l’Église\, L’Île-Bizard\, Quebec\, Canada
CATEGORIES:Musical
ATTACH;FMTTYPE=image/jpeg:https://www.sphib-sg.org/wp-content/uploads/2024/11/Affiche-Eric-Pichette_evenement.jpg
END:VEVENT
END:VCALENDAR