BEGIN:VCALENDAR
VERSION:2.0
PRODID:-//Société patrimoine et histoire de l&#039;île Bizard et Sainte-Geneviève et Sainte-Geneviève - ECPv6.15.20//NONSGML v1.0//EN
CALSCALE:GREGORIAN
METHOD:PUBLISH
X-WR-CALNAME:Société patrimoine et histoire de l&#039;île Bizard et Sainte-Geneviève et Sainte-Geneviève
X-ORIGINAL-URL:https://www.sphib-sg.org
X-WR-CALDESC:Évènements pour Société patrimoine et histoire de l&#039;île Bizard et Sainte-Geneviève et Sainte-Geneviève
REFRESH-INTERVAL;VALUE=DURATION:PT1H
X-Robots-Tag:noindex
X-PUBLISHED-TTL:PT1H
BEGIN:VTIMEZONE
TZID:America/New_York
BEGIN:DAYLIGHT
TZOFFSETFROM:-0500
TZOFFSETTO:-0400
TZNAME:EDT
DTSTART:20230312T070000
END:DAYLIGHT
BEGIN:STANDARD
TZOFFSETFROM:-0400
TZOFFSETTO:-0500
TZNAME:EST
DTSTART:20231105T060000
END:STANDARD
BEGIN:DAYLIGHT
TZOFFSETFROM:-0500
TZOFFSETTO:-0400
TZNAME:EDT
DTSTART:20240310T070000
END:DAYLIGHT
BEGIN:STANDARD
TZOFFSETFROM:-0400
TZOFFSETTO:-0500
TZNAME:EST
DTSTART:20241103T060000
END:STANDARD
BEGIN:DAYLIGHT
TZOFFSETFROM:-0500
TZOFFSETTO:-0400
TZNAME:EDT
DTSTART:20250309T070000
END:DAYLIGHT
BEGIN:STANDARD
TZOFFSETFROM:-0400
TZOFFSETTO:-0500
TZNAME:EST
DTSTART:20251102T060000
END:STANDARD
END:VTIMEZONE
BEGIN:VEVENT
DTSTART;TZID=America/New_York:20241115T140000
DTEND;TZID=America/New_York:20241115T153000
DTSTAMP:20260424T232530
CREATED:20241013T184314Z
LAST-MODIFIED:20241013T184314Z
UID:4455-1731679200-1731684600@www.sphib-sg.org
SUMMARY:Conférence Robert Campeau
DESCRIPTION:M. Gagne\, traducteur\, habite L’Île-Bizad depuis 1965. Il est un des co-auteurs du livre Aux confins de Montréal\, l’île-Bizard des origines nos jours\, publié en 2008 par la\nSociété patrimoine et histoire de l’île Bizard et Sante-Geneviève.
URL:https://www.sphib-sg.org/evenement/conference-robert-campeau/
LOCATION:Maison Espace patrimoine et histoire\, 15848\, rue du Moulin\, Sainte-Geneviève\, Qc. (514) 626-8155\, H9H 1A6\, Canada
ATTACH;FMTTYPE=image/jpeg:https://www.sphib-sg.org/wp-content/uploads/2024/10/serge-gagnier-description.jpg
END:VEVENT
BEGIN:VEVENT
DTSTART;TZID=America/New_York:20241124T140000
DTEND;TZID=America/New_York:20241124T153000
DTSTAMP:20260424T232530
CREATED:20241030T141848Z
LAST-MODIFIED:20241103T215725Z
UID:4460-1732456800-1732462200@www.sphib-sg.org
SUMMARY:Le cinéma de la place présente «Les espions venus de la mer»
DESCRIPTION:À l’automne 1942\, les sous-marins allemands pénètrent dans le fleuve Saint-Laurent\, coulant 21 navires et tuant plus de 250 personnes. L’Allemagne a fermé le fleuve Saint-Laurent à tous les convois canadiens à destination de la Grande-Bretagne. Les habitants du Saint-Laurent commencent à craindre le pire : un débarquement allemand.
URL:https://www.sphib-sg.org/evenement/le-cinema-de-la-place-presente-les-espions-venus-de-la-mer/
LOCATION:Salle Madeleine-Lahaye\, 500\, montée de l’Église\, L’Île-Bizard\, Quebec\, Canada
ATTACH;FMTTYPE=image/jpeg:https://www.sphib-sg.org/wp-content/uploads/2024/10/Affiche-Les-espions_inPixio.jpg
END:VEVENT
END:VCALENDAR