BEGIN:VCALENDAR
VERSION:2.0
PRODID:-//Société patrimoine et histoire de l&#039;île Bizard et Sainte-Geneviève et Sainte-Geneviève - ECPv6.15.20//NONSGML v1.0//EN
CALSCALE:GREGORIAN
METHOD:PUBLISH
X-ORIGINAL-URL:https://www.sphib-sg.org
X-WR-CALDESC:Évènements pour Société patrimoine et histoire de l&#039;île Bizard et Sainte-Geneviève et Sainte-Geneviève
REFRESH-INTERVAL;VALUE=DURATION:PT1H
X-Robots-Tag:noindex
X-PUBLISHED-TTL:PT1H
BEGIN:VTIMEZONE
TZID:Europe/Paris
BEGIN:DAYLIGHT
TZOFFSETFROM:+0100
TZOFFSETTO:+0200
TZNAME:CEST
DTSTART:20230326T010000
END:DAYLIGHT
BEGIN:STANDARD
TZOFFSETFROM:+0200
TZOFFSETTO:+0100
TZNAME:CET
DTSTART:20231029T010000
END:STANDARD
BEGIN:DAYLIGHT
TZOFFSETFROM:+0100
TZOFFSETTO:+0200
TZNAME:CEST
DTSTART:20240331T010000
END:DAYLIGHT
BEGIN:STANDARD
TZOFFSETFROM:+0200
TZOFFSETTO:+0100
TZNAME:CET
DTSTART:20241027T010000
END:STANDARD
BEGIN:DAYLIGHT
TZOFFSETFROM:+0100
TZOFFSETTO:+0200
TZNAME:CEST
DTSTART:20250330T010000
END:DAYLIGHT
BEGIN:STANDARD
TZOFFSETFROM:+0200
TZOFFSETTO:+0100
TZNAME:CET
DTSTART:20251026T010000
END:STANDARD
END:VTIMEZONE
BEGIN:VEVENT
DTSTART;TZID=Europe/Paris:20240517T140000
DTEND;TZID=Europe/Paris:20240517T153000
DTSTAMP:20260425T085443
CREATED:20240425T185225Z
LAST-MODIFIED:20240425T185730Z
UID:4250-1715954400-1715959800@www.sphib-sg.org
SUMMARY:L'histoire des ponts de Montréal
DESCRIPTION:Découvrons l’histoire des ponts de Montréal qui contribuèrent àfaire de cette ville l’important lieu d’échanges tant commerciauxque culturels et sociaux qu’elle est devenue. Réservation obligatoire: 514 626-8155 ou info@sphib-sg.org
URL:https://www.sphib-sg.org/evenement/lhistoire-des-ponts-de-montreal/
LOCATION:Salle Madeleine-Lahaye\, 500\, montée de l’Église\, L’Île-Bizard\, Quebec\, Canada
CATEGORIES:Conférence
ATTACH;FMTTYPE=image/jpeg:https://www.sphib-sg.org/wp-content/uploads/2024/04/Lhistoire-des-pont-de-Mtl-conf.17-mai-24.jpg
END:VEVENT
BEGIN:VEVENT
DTSTART;TZID=Europe/Paris:20240519T140000
DTEND;TZID=Europe/Paris:20240519T163000
DTSTAMP:20260425T085443
CREATED:20240416T014543Z
LAST-MODIFIED:20240416T014543Z
UID:4231-1716127200-1716136200@www.sphib-sg.org
SUMMARY:Un rallye patrimonial au cœur du village de Sainte-Geneviève
DESCRIPTION:Veuillez réserver votre place pour dimanche le 19 mai\, le départ est à 14 heures. Vous devrez vous présenter au moins 30 minutes avant le départ. Vous aurez à répondre à un questionnaire et votre œil de lynx sera mis à contribution. Un premier indice vous est fourni. Une récompense sera remise aux trois plus haut pointage.
URL:https://www.sphib-sg.org/evenement/un-rallye-patrimonial-au-coeur-du-village-de-sainte-genevieve/
LOCATION:Maison Espace patrimoine et histoire\, 15848\, rue du Moulin\, Sainte-Geneviève\, Qc. (514) 626-8155\, H9H 1A6\, Canada
CATEGORIES:Saisonier
ATTACH;FMTTYPE=image/jpeg:https://www.sphib-sg.org/wp-content/uploads/2024/04/rallye-patrimonial-19-mai-e1746295520479.jpeg
END:VEVENT
END:VCALENDAR