BEGIN:VCALENDAR
VERSION:2.0
PRODID:-//Société patrimoine et histoire de l&#039;île Bizard et Sainte-Geneviève et Sainte-Geneviève - ECPv6.15.20//NONSGML v1.0//EN
CALSCALE:GREGORIAN
METHOD:PUBLISH
X-ORIGINAL-URL:https://www.sphib-sg.org
X-WR-CALDESC:Évènements pour Société patrimoine et histoire de l&#039;île Bizard et Sainte-Geneviève et Sainte-Geneviève
REFRESH-INTERVAL;VALUE=DURATION:PT1H
X-Robots-Tag:noindex
X-PUBLISHED-TTL:PT1H
BEGIN:VTIMEZONE
TZID:Europe/Paris
BEGIN:DAYLIGHT
TZOFFSETFROM:+0100
TZOFFSETTO:+0200
TZNAME:CEST
DTSTART:20220327T010000
END:DAYLIGHT
BEGIN:STANDARD
TZOFFSETFROM:+0200
TZOFFSETTO:+0100
TZNAME:CET
DTSTART:20221030T010000
END:STANDARD
BEGIN:DAYLIGHT
TZOFFSETFROM:+0100
TZOFFSETTO:+0200
TZNAME:CEST
DTSTART:20230326T010000
END:DAYLIGHT
BEGIN:STANDARD
TZOFFSETFROM:+0200
TZOFFSETTO:+0100
TZNAME:CET
DTSTART:20231029T010000
END:STANDARD
BEGIN:DAYLIGHT
TZOFFSETFROM:+0100
TZOFFSETTO:+0200
TZNAME:CEST
DTSTART:20240331T010000
END:DAYLIGHT
BEGIN:STANDARD
TZOFFSETFROM:+0200
TZOFFSETTO:+0100
TZNAME:CET
DTSTART:20241027T010000
END:STANDARD
END:VTIMEZONE
BEGIN:VEVENT
DTSTART;TZID=Europe/Paris:20231201T190000
DTEND;TZID=Europe/Paris:20231201T203000
DTSTAMP:20260425T171938
CREATED:20231111T205250Z
LAST-MODIFIED:20231111T205932Z
UID:4179-1701457200-1701462600@www.sphib-sg.org
SUMMARY:Conférence L'AUBERGE DU BOURRU
DESCRIPTION:
URL:https://www.sphib-sg.org/evenement/4179/
LOCATION:Maison Espace patrimoine et histoire\, 15848\, rue du Moulin\, Sainte-Geneviève\, Qc. (514) 626-8155\, H9H 1A6\, Canada
END:VEVENT
END:VCALENDAR