BEGIN:VCALENDAR
VERSION:2.0
PRODID:-//Société patrimoine et histoire de l&#039;île Bizard et Sainte-Geneviève et Sainte-Geneviève - ECPv6.15.20//NONSGML v1.0//EN
CALSCALE:GREGORIAN
METHOD:PUBLISH
X-WR-CALNAME:Société patrimoine et histoire de l&#039;île Bizard et Sainte-Geneviève et Sainte-Geneviève
X-ORIGINAL-URL:https://www.sphib-sg.org
X-WR-CALDESC:Évènements pour Société patrimoine et histoire de l&#039;île Bizard et Sainte-Geneviève et Sainte-Geneviève
REFRESH-INTERVAL;VALUE=DURATION:PT1H
X-Robots-Tag:noindex
X-PUBLISHED-TTL:PT1H
BEGIN:VTIMEZONE
TZID:Europe/Paris
BEGIN:DAYLIGHT
TZOFFSETFROM:+0100
TZOFFSETTO:+0200
TZNAME:CEST
DTSTART:20220327T010000
END:DAYLIGHT
BEGIN:STANDARD
TZOFFSETFROM:+0200
TZOFFSETTO:+0100
TZNAME:CET
DTSTART:20221030T010000
END:STANDARD
BEGIN:DAYLIGHT
TZOFFSETFROM:+0100
TZOFFSETTO:+0200
TZNAME:CEST
DTSTART:20230326T010000
END:DAYLIGHT
BEGIN:STANDARD
TZOFFSETFROM:+0200
TZOFFSETTO:+0100
TZNAME:CET
DTSTART:20231029T010000
END:STANDARD
BEGIN:DAYLIGHT
TZOFFSETFROM:+0100
TZOFFSETTO:+0200
TZNAME:CEST
DTSTART:20240331T010000
END:DAYLIGHT
BEGIN:STANDARD
TZOFFSETFROM:+0200
TZOFFSETTO:+0100
TZNAME:CET
DTSTART:20241027T010000
END:STANDARD
END:VTIMEZONE
BEGIN:VEVENT
DTSTART;TZID=Europe/Paris:20230813T140000
DTEND;TZID=Europe/Paris:20230813T153000
DTSTAMP:20260425T231001
CREATED:20230715T030516Z
LAST-MODIFIED:20230715T045150Z
UID:4052-1691935200-1691940600@www.sphib-sg.org
SUMMARY:Visite patrimoniale à L'Île-Bizard
DESCRIPTION:
URL:https://www.sphib-sg.org/evenement/visite-patrimoniale-a-lile-bizard/
LOCATION:Qc. (514) 626-8155
END:VEVENT
BEGIN:VEVENT
DTSTART;TZID=Europe/Paris:20230819T133000
DTEND;TZID=Europe/Paris:20230819T163000
DTSTAMP:20260425T231001
CREATED:20230715T045945Z
LAST-MODIFIED:20230721T020547Z
UID:4053-1692451800-1692462600@www.sphib-sg.org
SUMMARY:JeLisQuébécois - Dédicace en compagnie d'auteur.e.s
DESCRIPTION:
URL:https://www.sphib-sg.org/evenement/jelisquebecois-dedicace-en-compagnie-dauteur-e-s/
LOCATION:Parc de l’Anse-aux-Rivard\, 15795\, Boulevard Gouin Ouest\, Sainte-Geneviève\, Québec\, Canada
END:VEVENT
BEGIN:VEVENT
DTSTART;TZID=Europe/Paris:20230827T130000
DTEND;TZID=Europe/Paris:20230827T170000
DTSTAMP:20260425T231001
CREATED:20230703T060511Z
LAST-MODIFIED:20230703T060511Z
UID:4048-1693141200-1693155600@www.sphib-sg.org
SUMMARY:La grande fête du monde
DESCRIPTION:La Salle Pauline-Julien présente  La grande fête du monde\nEn collaboration avec Société Patrimoine et Histoire de l’île Bizard et Sainte-Geneviève et le soutien de l’arrondissement de L’Île-Bizard-Sainte-Geneviève\nDimanche 27 août\, de 13 h à 17 h \nÉVÉNEMENT GRATUIT\nOUVERT À TOUS
URL:https://www.sphib-sg.org/evenement/la-grande-fete-du-monde/
LOCATION:Parc de l’Anse-aux-Rivard\, 15795\, Boulevard Gouin Ouest\, Sainte-Geneviève\, Québec\, Canada
END:VEVENT
END:VCALENDAR